BEGIN:VCALENDAR
VERSION:2.0
PRODID:-//Center for Complex Geometry - ECPv6.15.20//NONSGML v1.0//EN
CALSCALE:GREGORIAN
METHOD:PUBLISH
X-ORIGINAL-URL:https://ccg.ibs.re.kr
X-WR-CALDESC:Events for Center for Complex Geometry
REFRESH-INTERVAL;VALUE=DURATION:PT1H
X-Robots-Tag:noindex
X-PUBLISHED-TTL:PT1H
BEGIN:VTIMEZONE
TZID:Asia/Seoul
BEGIN:STANDARD
TZOFFSETFROM:+0900
TZOFFSETTO:+0900
TZNAME:KST
DTSTART:20200101T000000
END:STANDARD
END:VTIMEZONE
BEGIN:VEVENT
DTSTART;VALUE=DATE:20210712
DTEND;VALUE=DATE:20210717
DTSTAMP:20260420T172427
CREATED:20210708T084051Z
LAST-MODIFIED:20210708T084051Z
UID:627-1626048000-1626479999@ccg.ibs.re.kr
SUMMARY:2021 Pacific Rim Complex and Symplectic Geometry Conference
DESCRIPTION:https://cgp.ibs.re.kr/activities/conferences/337
URL:https://ccg.ibs.re.kr/event/2021-07-12-16/
LOCATION:on-line
CATEGORIES:Conferences and Workshops
END:VEVENT
END:VCALENDAR