BEGIN:VCALENDAR
VERSION:2.0
PRODID:-//Center for Complex Geometry - ECPv6.15.20//NONSGML v1.0//EN
CALSCALE:GREGORIAN
METHOD:PUBLISH
X-WR-CALNAME:Center for Complex Geometry
X-ORIGINAL-URL:https://ccg.ibs.re.kr
X-WR-CALDESC:Events for Center for Complex Geometry
REFRESH-INTERVAL;VALUE=DURATION:PT1H
X-Robots-Tag:noindex
X-PUBLISHED-TTL:PT1H
BEGIN:VTIMEZONE
TZID:Asia/Seoul
BEGIN:STANDARD
TZOFFSETFROM:+0900
TZOFFSETTO:+0900
TZNAME:KST
DTSTART:20210101T000000
END:STANDARD
END:VTIMEZONE
BEGIN:VEVENT
DTSTART;TZID=Asia/Seoul:20220308T110000
DTEND;TZID=Asia/Seoul:20220308T120000
DTSTAMP:20260424T094605
CREATED:20220308T020000Z
LAST-MODIFIED:20220222T011638Z
UID:977-1646737200-1646740800@ccg.ibs.re.kr
SUMMARY:Atsushi Ito\, Projective Normality of General Polarized Abelian Varieties
DESCRIPTION:     Speaker\n\n\nAtsushi Ito\nOkayama Univ.\n\n\n\n\n\nProjective normality is an important property of ample line bundles on algebraic varieties.\nIn this talk\, I will explain that a general g-dimensional polarized abelian variety is projectively normal if χ(X\, L) > 22g-1.\nWe note that this bound is sharp. A key tool is basepoint-freeness threshold\, which is introduced by Jiang-Pareschi recently.
URL:https://ccg.ibs.re.kr/event/2022-03-08/
LOCATION:on-line
CATEGORIES:Algebraic Geometry Seminar
END:VEVENT
END:VCALENDAR