BEGIN:VCALENDAR
VERSION:2.0
PRODID:-//Center for Complex Geometry - ECPv6.15.20//NONSGML v1.0//EN
CALSCALE:GREGORIAN
METHOD:PUBLISH
X-ORIGINAL-URL:https://ccg.ibs.re.kr
X-WR-CALDESC:Events for Center for Complex Geometry
REFRESH-INTERVAL;VALUE=DURATION:PT1H
X-Robots-Tag:noindex
X-PUBLISHED-TTL:PT1H
BEGIN:VTIMEZONE
TZID:Asia/Seoul
BEGIN:STANDARD
TZOFFSETFROM:+0900
TZOFFSETTO:+0900
TZNAME:KST
DTSTART:20210101T000000
END:STANDARD
END:VTIMEZONE
BEGIN:VEVENT
DTSTART;TZID=Asia/Seoul:20220607T110000
DTEND;TZID=Asia/Seoul:20220607T120000
DTSTAMP:20260420T121816
CREATED:20220607T020000Z
LAST-MODIFIED:20220525T012126Z
UID:1226-1654599600-1654603200@ccg.ibs.re.kr
SUMMARY:Christian Schnell\, A New Approach to Degenerating Variations of Hodge Structure
DESCRIPTION:     Speaker\n\n\nChristian Schnell\nStony Brook Univ.\n\n\n\n\n\nThe theory of variations of Hodge structure has many applications in algebraic geometry. Most of these are based on the results by Schmid\, Cattani\, Kaplan\, Kashiwara\, and Kawai from the 1970s and 1980s. I will describe a new approach that proves these results — such as the Hodge norm estimates or the nilpotent orbit theorem — more easily (and that no longer requires quasi-unipotent local monodromy).
URL:https://ccg.ibs.re.kr/event/2022-06-07/
LOCATION:on-line
CATEGORIES:Algebraic Geometry Seminar
END:VEVENT
END:VCALENDAR