BEGIN:VCALENDAR
VERSION:2.0
PRODID:-//Center for Complex Geometry - ECPv6.15.20//NONSGML v1.0//EN
CALSCALE:GREGORIAN
METHOD:PUBLISH
X-ORIGINAL-URL:https://ccg.ibs.re.kr
X-WR-CALDESC:Events for Center for Complex Geometry
REFRESH-INTERVAL;VALUE=DURATION:PT1H
X-Robots-Tag:noindex
X-PUBLISHED-TTL:PT1H
BEGIN:VTIMEZONE
TZID:Asia/Seoul
BEGIN:STANDARD
TZOFFSETFROM:+0900
TZOFFSETTO:+0900
TZNAME:KST
DTSTART:20220101T000000
END:STANDARD
END:VTIMEZONE
BEGIN:VEVENT
DTSTART;VALUE=DATE:20230130
DTEND;VALUE=DATE:20230209
DTSTAMP:20260422T170523
CREATED:20221130T075502Z
LAST-MODIFIED:20230119T042807Z
UID:1883-1675036800-1675900799@ccg.ibs.re.kr
SUMMARY:Dennis The (University of Tromso\, Norway)
DESCRIPTION:Dennis The \nVisitor (2023.1.30-2023.2.8) from University of Tromso\, Norway  \nOffice: –
URL:https://ccg.ibs.re.kr/event/230130-230208/
CATEGORIES:Visitors
END:VEVENT
END:VCALENDAR