BEGIN:VCALENDAR
VERSION:2.0
PRODID:-//Center for Complex Geometry - ECPv6.15.20//NONSGML v1.0//EN
CALSCALE:GREGORIAN
METHOD:PUBLISH
X-WR-CALNAME:Center for Complex Geometry
X-ORIGINAL-URL:https://ccg.ibs.re.kr
X-WR-CALDESC:Events for Center for Complex Geometry
REFRESH-INTERVAL;VALUE=DURATION:PT1H
X-Robots-Tag:noindex
X-PUBLISHED-TTL:PT1H
BEGIN:VTIMEZONE
TZID:Asia/Seoul
BEGIN:STANDARD
TZOFFSETFROM:+0900
TZOFFSETTO:+0900
TZNAME:KST
DTSTART:20210101T000000
END:STANDARD
END:VTIMEZONE
BEGIN:VEVENT
DTSTART;TZID=Asia/Seoul:20220302T160000
DTEND;TZID=Asia/Seoul:20220302T170000
DTSTAMP:20260420T092413
CREATED:20220302T070000Z
LAST-MODIFIED:20220216T081710Z
UID:1122-1646236800-1646240400@ccg.ibs.re.kr
SUMMARY:Duc-Viet Vu\, Moser-Trudinger Inequalities and Complex Monge-Ampere Equations
DESCRIPTION:     Speaker\n\n\nDuc-Viet Vu\nCologne\n\n\n\n\n\nI present a version of the Moser-Trudinger inequality in the setting of complex geometry. As a very particular case\, the result already gives a new Moser-Trudinger inequality for functions in the Sobolev space W1\,2 of a domain in R2. As an application\, we deduce a new necessary condition for the complex Monge-Ampere equation for a given measure on a compact Kahler manifold to admit a Holder continuous solution. This is a joint work with Tien-Cuong Dinh and George Marinescu.
URL:https://ccg.ibs.re.kr/event/2022-03-02/
LOCATION:on-line
CATEGORIES:Several Complex Variables Seminar
END:VEVENT
END:VCALENDAR