BEGIN:VCALENDAR
VERSION:2.0
PRODID:-//Center for Complex Geometry - ECPv6.15.20//NONSGML v1.0//EN
CALSCALE:GREGORIAN
METHOD:PUBLISH
X-WR-CALNAME:Center for Complex Geometry
X-ORIGINAL-URL:https://ccg.ibs.re.kr
X-WR-CALDESC:Events for Center for Complex Geometry
REFRESH-INTERVAL;VALUE=DURATION:PT1H
X-Robots-Tag:noindex
X-PUBLISHED-TTL:PT1H
BEGIN:VTIMEZONE
TZID:Asia/Seoul
BEGIN:STANDARD
TZOFFSETFROM:+0900
TZOFFSETTO:+0900
TZNAME:KST
DTSTART:20190101T000000
END:STANDARD
END:VTIMEZONE
BEGIN:VEVENT
DTSTART;TZID=Asia/Seoul:20201110T110000
DTEND;TZID=Asia/Seoul:20201110T120000
DTSTAMP:20260421T200151
CREATED:20201119T165750Z
LAST-MODIFIED:20210430T042257Z
UID:177-1605006000-1605009600@ccg.ibs.re.kr
SUMMARY:Eunjeong Lee\, Geometry of Flag Varieties and Related Combinatorics
DESCRIPTION:     Speaker\n\n\nEnjeong Lee\nIBS-CGP\n\n\n\n\n\nFor a semisimple algebraic group G and a Borel subgroup B\, the homogeneous space G/B\, called the flag variety\, is a smooth projective variety which has a fruitful connection with G-representations. Indeed\, the set of global sections H0(G/B\, L) is an irreducible G-representation for a very ample line bundle L on G/B. On the other hand\, string polytopes are combinatorial objects which encode the characters of irreducible G-representations. One of the most famous examples of string polytopes is the Gelfand–Cetlin polytope\, and there might exist combinatorially different string polytopes. The string polytopes are related to the flag varieties via the theory of Newton–Okounkov bodies. In this talk\, we will study Gelfand–Cetlin type string polytopes\, their enumerations\, and we will present small toric resolutions of certain string polytopes.  This talk is based on several collaborations with Yunhyung Cho\, Jang Soo Kim\, Yoosik Kim\, and Kyeong-Dong Park.
URL:https://ccg.ibs.re.kr/event/2020-11-10/
LOCATION:B266\, IBS\, Korea\, Republic of
CATEGORIES:Complex Geometry Seminar
END:VEVENT
END:VCALENDAR