BEGIN:VCALENDAR
VERSION:2.0
PRODID:-//Center for Complex Geometry - ECPv6.15.20//NONSGML v1.0//EN
CALSCALE:GREGORIAN
METHOD:PUBLISH
X-ORIGINAL-URL:https://ccg.ibs.re.kr
X-WR-CALDESC:Events for Center for Complex Geometry
REFRESH-INTERVAL;VALUE=DURATION:PT1H
X-Robots-Tag:noindex
X-PUBLISHED-TTL:PT1H
BEGIN:VTIMEZONE
TZID:Asia/Seoul
BEGIN:STANDARD
TZOFFSETFROM:+0900
TZOFFSETTO:+0900
TZNAME:KST
DTSTART:20210101T000000
END:STANDARD
END:VTIMEZONE
BEGIN:VEVENT
DTSTART;TZID=Asia/Seoul:20220119T100000
DTEND;TZID=Asia/Seoul:20220119T120000
DTSTAMP:20260426T094107
CREATED:20220119T010000Z
LAST-MODIFIED:20211227T043507Z
UID:910-1642586400-1642593600@ccg.ibs.re.kr
SUMMARY:Han-Bom Moon\, Derived Category of Moduli of Vector Bundles I
DESCRIPTION:     Speaker\n\n\nHan-Bom Moon\nFordham University\n\n\n\n\n\nThe derived category of a smooth projective variety is an object expected to encode much birational geometric information. Recently\, there have been many results on decomposing derived categories into simpler building blocks. In the first lecture\, I will provide an elementary introduction to two independent topics — 1. the definition and basic properties of the derived category and 2. moduli spaces of vector bundles on a curve. In the second lecture\, I will present recent progress on the structure of the derived category of the moduli space. Most of the lectures will be accessible to graduate students with basic knowledge of algebraic geometry. The second lecture is based on ongoing joint work with Kyoung-Seog Lee.
URL:https://ccg.ibs.re.kr/event/2022-01-19/
LOCATION:TBA
CATEGORIES:Complex Geometry Seminar
END:VEVENT
END:VCALENDAR