BEGIN:VCALENDAR
VERSION:2.0
PRODID:-//Center for Complex Geometry - ECPv6.15.20//NONSGML v1.0//EN
CALSCALE:GREGORIAN
METHOD:PUBLISH
X-ORIGINAL-URL:https://ccg.ibs.re.kr
X-WR-CALDESC:Events for Center for Complex Geometry
REFRESH-INTERVAL;VALUE=DURATION:PT1H
X-Robots-Tag:noindex
X-PUBLISHED-TTL:PT1H
BEGIN:VTIMEZONE
TZID:Asia/Seoul
BEGIN:STANDARD
TZOFFSETFROM:+0900
TZOFFSETTO:+0900
TZNAME:KST
DTSTART:20220101T000000
END:STANDARD
END:VTIMEZONE
BEGIN:VEVENT
DTSTART;VALUE=DATE:20230301
DTEND;VALUE=DATE:20240229
DTSTAMP:20260420T010431
CREATED:20230425T013322Z
LAST-MODIFIED:20230504T065225Z
UID:2258-1677628800-1709164799@ccg.ibs.re.kr
SUMMARY:Insong Choe (최인송\, Konkuk University)
DESCRIPTION:Insong Choe (최인송) \nVisitor (2023.3.1-2024.2.28) from Konkuk University \nOffice: B255
URL:https://ccg.ibs.re.kr/event/230301-240228/
CATEGORIES:Visitors
END:VEVENT
BEGIN:VEVENT
DTSTART;TZID=Asia/Seoul:20230330T110000
DTEND;TZID=Asia/Seoul:20230330T120000
DTSTAMP:20260420T010431
CREATED:20230214T085114Z
LAST-MODIFIED:20230306T010918Z
UID:2086-1680174000-1680177600@ccg.ibs.re.kr
SUMMARY:Insong Choe\, Subsheaves of Maximal Rank in a Symplectic and Orthogonal Bundle over a Curve
DESCRIPTION:    Speaker\n\n\nInsong Choe\nKunkuk University\n\n\n\n\n\n\nWe first review the known results on the Quot schemes on a smooth algebraic curve. Next we explain how they can be generalized to the Lagrangian Quot scheme\, which parametrizes Lagrangian subsheaves on a symplectic vector bundle. Also we discuss the parallel results for orthogonal bundles. This will be an overview of the findings over the past 15 years in collaboration with George H. Hitching and D. Cheong.
URL:https://ccg.ibs.re.kr/event/2023-03-30/
LOCATION:B236-1\, IBS\, Korea\, Republic of
CATEGORIES:Complex Geometry Seminar
END:VEVENT
END:VCALENDAR