BEGIN:VCALENDAR
VERSION:2.0
PRODID:-//Center for Complex Geometry - ECPv6.15.20//NONSGML v1.0//EN
CALSCALE:GREGORIAN
METHOD:PUBLISH
X-ORIGINAL-URL:https://ccg.ibs.re.kr
X-WR-CALDESC:Events for Center for Complex Geometry
REFRESH-INTERVAL;VALUE=DURATION:PT1H
X-Robots-Tag:noindex
X-PUBLISHED-TTL:PT1H
BEGIN:VTIMEZONE
TZID:Asia/Seoul
BEGIN:STANDARD
TZOFFSETFROM:+0900
TZOFFSETTO:+0900
TZNAME:KST
DTSTART:20210101T000000
END:STANDARD
END:VTIMEZONE
BEGIN:VEVENT
DTSTART;VALUE=DATE:20220222
DTEND;VALUE=DATE:20220223
DTSTAMP:20260424T131428
CREATED:20220221T150000Z
LAST-MODIFIED:20220207T010959Z
UID:1045-1645488000-1645574399@ccg.ibs.re.kr
SUMMARY:Arithemetic Geometry Day in IBS-CCG
DESCRIPTION:List of Seminars \n\n\n\n\n\nA Hyperelliptic Curve Mapping to Specified Elliptic Curves\nBo-Hae Im (KAIST)\n14:00-15:00\, IBS B266 \n\n\nJordan Constants of Simple Abelian Varieties over Fields of Positive Characteristic\nWonTae Hwang (Jeonbuk National Univ.)\n15:15-16:15\, IBS B266 \n\n\nDecidable Diophantine Problems on Character Varieties\nJunho Peter Whang (Seoul National Univ.)\n16:30-17:30\, IBS B266
URL:https://ccg.ibs.re.kr/event/2022-02-22/
LOCATION:B266\, IBS\, Korea\, Republic of
CATEGORIES:Conferences and Workshops
END:VEVENT
BEGIN:VEVENT
DTSTART;TZID=Asia/Seoul:20220222T163000
DTEND;TZID=Asia/Seoul:20220222T173000
DTSTAMP:20260424T131428
CREATED:20220222T073000Z
LAST-MODIFIED:20220207T011657Z
UID:1055-1645547400-1645551000@ccg.ibs.re.kr
SUMMARY:Junho Peter Whang\, Decidable Diophantine Problems on Character Varieties
DESCRIPTION:     Speaker\n\n\nJunho Peter Whang\nSeoul National Univ.\n\n\n\n\n\n\n(This is a part of Arithemetic Geometry Day in IBS-CCG.) \nCharacter varieties of manifolds are basic objects in geometry and low-dimensional topology. We motivate the Diophantine study of their integral points. After discussing an effective finite generation theorem for integral points on SL2-character varieties of surfaces\, we present new decidability results for certain Diophantine problems on character varieties with other coefficient groups and manifolds.
URL:https://ccg.ibs.re.kr/event/2022-02-22-1630/
LOCATION:B266\, IBS\, Korea\, Republic of
CATEGORIES:Algebraic Geometry Seminar
END:VEVENT
END:VCALENDAR