BEGIN:VCALENDAR
VERSION:2.0
PRODID:-//Center for Complex Geometry - ECPv6.15.20//NONSGML v1.0//EN
CALSCALE:GREGORIAN
METHOD:PUBLISH
X-WR-CALNAME:Center for Complex Geometry
X-ORIGINAL-URL:https://ccg.ibs.re.kr
X-WR-CALDESC:Events for Center for Complex Geometry
REFRESH-INTERVAL;VALUE=DURATION:PT1H
X-Robots-Tag:noindex
X-PUBLISHED-TTL:PT1H
BEGIN:VTIMEZONE
TZID:Asia/Seoul
BEGIN:STANDARD
TZOFFSETFROM:+0900
TZOFFSETTO:+0900
TZNAME:KST
DTSTART:20210101T000000
END:STANDARD
END:VTIMEZONE
BEGIN:VEVENT
DTSTART;TZID=Asia/Seoul:20220223T110000
DTEND;TZID=Asia/Seoul:20220223T120000
DTSTAMP:20260420T170238
CREATED:20220223T020000Z
LAST-MODIFIED:20220221T054117Z
UID:1136-1645614000-1645617600@ccg.ibs.re.kr
SUMMARY:Kang-Hyurk Lee\, Smoothly Bounded Domain with a Compact Quotient
DESCRIPTION:     Speaker\n\n\nKang-Hyurk Lee\nGNU\n\n\n\n\n\nThe Wong-Rosay theorem says that a smoothly bounded domain covering a compact complex manifold is biholomorphically equivalent to the unit ball. The general methodology of this theorem is the affine rescaling method. In this talk\, I will introduce the potential rescaling method\, an alternative of the affine rescaling. This is a method to construct a specific potential function of the Kahler-Einstein which possesses a complete holomorphic vector field. I will also give a generalization of the Wong-Rosay theorem. This is a collaborated work with Y.-J. Choi and A. Seo.
URL:https://ccg.ibs.re.kr/event/2022-02-23/
LOCATION:on-line
CATEGORIES:Several Complex Variables Seminar
END:VEVENT
END:VCALENDAR