BEGIN:VCALENDAR
VERSION:2.0
PRODID:-//Center for Complex Geometry - ECPv6.15.20//NONSGML v1.0//EN
CALSCALE:GREGORIAN
METHOD:PUBLISH
X-WR-CALNAME:Center for Complex Geometry
X-ORIGINAL-URL:https://ccg.ibs.re.kr
X-WR-CALDESC:Events for Center for Complex Geometry
REFRESH-INTERVAL;VALUE=DURATION:PT1H
X-Robots-Tag:noindex
X-PUBLISHED-TTL:PT1H
BEGIN:VTIMEZONE
TZID:Asia/Seoul
BEGIN:STANDARD
TZOFFSETFROM:+0900
TZOFFSETTO:+0900
TZNAME:KST
DTSTART:20220101T000000
END:STANDARD
END:VTIMEZONE
BEGIN:VEVENT
DTSTART;VALUE=DATE:20230204
DTEND;VALUE=DATE:20230211
DTSTAMP:20260423T074915
CREATED:20221130T080619Z
LAST-MODIFIED:20230119T042848Z
UID:1893-1675468800-1676073599@ccg.ibs.re.kr
SUMMARY:Laurent Stolovitch (Universite Cote d'Azur\, France)
DESCRIPTION:Laurent Stolovitch \nVisitor (2023.2.4-2023.2.10) from Universite Cote d’Azur\, France \nOffice: –
URL:https://ccg.ibs.re.kr/event/230204-230210/
CATEGORIES:Visitors
END:VEVENT
BEGIN:VEVENT
DTSTART;TZID=Asia/Seoul:20230207T160000
DTEND;TZID=Asia/Seoul:20230207T170000
DTSTAMP:20260423T074915
CREATED:20230111T041331Z
LAST-MODIFIED:20230111T041331Z
UID:1996-1675785600-1675789200@ccg.ibs.re.kr
SUMMARY:Laurent Stolovitch\, Introduction to Normal Form Theory of Holomorphic Vector Fields 1
DESCRIPTION:     Speaker\n\n\nLaurent Stolovitch\nUniversite Cote d’Azur\n\n\n\n\n\n\nIn this short lecture\, I will introduce the notion of normal form and resonances. I will also explain the phenomenon of “small divisors” and give some fundamental results of holomorphic conjugacy to a normal form.
URL:https://ccg.ibs.re.kr/event/2023-02-07/
LOCATION:B236-1\, IBS\, Korea\, Republic of
CATEGORIES:Complex Geometry Seminar
END:VEVENT
BEGIN:VEVENT
DTSTART;TZID=Asia/Seoul:20230209T110000
DTEND;TZID=Asia/Seoul:20230209T120000
DTSTAMP:20260423T074915
CREATED:20230111T041445Z
LAST-MODIFIED:20230111T041455Z
UID:1998-1675940400-1675944000@ccg.ibs.re.kr
SUMMARY:Laurent Stolovitch\, Introduction to Normal Form Theory of Holomorphic Vector Fields 2
DESCRIPTION:     Speaker\n\n\nLaurent Stolovitch\nUniversite Cote d’Azur\n\n\n\n\n\n\nIn this short lecture\, I will introduce the notion of normal form and resonances. I will also explain the phenomenon of “small divisors” and give some fundamental results of holomorphic conjugacy to a normal form.
URL:https://ccg.ibs.re.kr/event/2023-02-09/
LOCATION:B236-1\, IBS\, Korea\, Republic of
CATEGORIES:Complex Geometry Seminar
END:VEVENT
END:VCALENDAR