BEGIN:VCALENDAR
VERSION:2.0
PRODID:-//Center for Complex Geometry - ECPv6.15.20//NONSGML v1.0//EN
CALSCALE:GREGORIAN
METHOD:PUBLISH
X-WR-CALNAME:Center for Complex Geometry
X-ORIGINAL-URL:https://ccg.ibs.re.kr
X-WR-CALDESC:Events for Center for Complex Geometry
REFRESH-INTERVAL;VALUE=DURATION:PT1H
X-Robots-Tag:noindex
X-PUBLISHED-TTL:PT1H
BEGIN:VTIMEZONE
TZID:Asia/Seoul
BEGIN:STANDARD
TZOFFSETFROM:+0900
TZOFFSETTO:+0900
TZNAME:KST
DTSTART:20210101T000000
END:STANDARD
END:VTIMEZONE
BEGIN:VEVENT
DTSTART;TZID=Asia/Seoul:20220303T150000
DTEND;TZID=Asia/Seoul:20220303T160000
DTSTAMP:20260420T131103
CREATED:20220303T060000Z
LAST-MODIFIED:20220214T022608Z
UID:1110-1646319600-1646323200@ccg.ibs.re.kr
SUMMARY:Luca Rizzi\, An Approach to the Fujita Decomposition via Massey Products and Castelnuovo-de Franchis Theorem
DESCRIPTION:     Speaker\n\n\nLuca Rizzi\nIBS CCG\n\n\n\n\n\nLet f be a semistable fibration between a smooth complex variety of dimension n and a smooth complex curve. By a famous result of Fujita the direct image of the relative dualizing sheaf is the direct sum of a unitary flat vector bundle and an ample vector bundle. In this talk we focus our attention on the former: unitary flat bundles are in one-to-one correspondence with local systems and monodromy representations and I will show how these local systems are related to the de Rham closed one forms and top forms on the fibers of f. I will also give an introduction on the construction of Massey products and show its close relation with both a famous result by Castelnuovo and de Franchis and these local systems. Thanks to the presented techniques it is possible to give some results on the finiteness of the monodromy associated to the unitary flat bundle; equivalently on its semi-ampleness.
URL:https://ccg.ibs.re.kr/event/2022-03-03-1500/
LOCATION:TBA
CATEGORIES:Complex Geometry Seminar
END:VEVENT
END:VCALENDAR