BEGIN:VCALENDAR
VERSION:2.0
PRODID:-//Center for Complex Geometry - ECPv6.15.20//NONSGML v1.0//EN
CALSCALE:GREGORIAN
METHOD:PUBLISH
X-ORIGINAL-URL:https://ccg.ibs.re.kr
X-WR-CALDESC:Events for Center for Complex Geometry
REFRESH-INTERVAL;VALUE=DURATION:PT1H
X-Robots-Tag:noindex
X-PUBLISHED-TTL:PT1H
BEGIN:VTIMEZONE
TZID:Asia/Seoul
BEGIN:STANDARD
TZOFFSETFROM:+0900
TZOFFSETTO:+0900
TZNAME:KST
DTSTART:20210101T000000
END:STANDARD
END:VTIMEZONE
BEGIN:VEVENT
DTSTART;TZID=Asia/Seoul:20220614T163000
DTEND;TZID=Asia/Seoul:20220614T173000
DTSTAMP:20260420T081723
CREATED:20220613T073000Z
LAST-MODIFIED:20220607T041304Z
UID:1347-1655224200-1655227800@ccg.ibs.re.kr
SUMMARY:Luca Rizzi\, Local Systems\, Algebraic Foliations and Fibrations
DESCRIPTION:     Speaker\n\n\nLuca Rizzi\nIBS-CCG\n\n\n\n\n\nGiven a semistable fibration f : X → B I will show a correspondence between foliations on X and local systems on B. Building up on this correspondence we will find conditions that give maximal rationally connected fibrations in terms of data on the foliation. We will develop the ideas of the Castelnuovo-de Franchis theorem in the case of p-forms and show when\, under some natural conditions\, a line subbundle of the sheaf of p-forms induces the Iitaka fibration. Based on a joint work with Prof. Francesco Zucconi.
URL:https://ccg.ibs.re.kr/event/2022-06-14/
LOCATION:TBA
CATEGORIES:Algebraic Geometry Seminar
END:VEVENT
END:VCALENDAR