BEGIN:VCALENDAR
VERSION:2.0
PRODID:-//Center for Complex Geometry - ECPv6.15.20//NONSGML v1.0//EN
CALSCALE:GREGORIAN
METHOD:PUBLISH
X-ORIGINAL-URL:https://ccg.ibs.re.kr
X-WR-CALDESC:Events for Center for Complex Geometry
REFRESH-INTERVAL;VALUE=DURATION:PT1H
X-Robots-Tag:noindex
X-PUBLISHED-TTL:PT1H
BEGIN:VTIMEZONE
TZID:Asia/Seoul
BEGIN:STANDARD
TZOFFSETFROM:+0900
TZOFFSETTO:+0900
TZNAME:KST
DTSTART:20200101T000000
END:STANDARD
END:VTIMEZONE
BEGIN:VEVENT
DTSTART;TZID=Asia/Seoul:20210623T160000
DTEND;TZID=Asia/Seoul:20210623T170000
DTSTAMP:20260421T073407
CREATED:20210618T071309Z
LAST-MODIFIED:20210623T023313Z
UID:598-1624464000-1624467600@ccg.ibs.re.kr
SUMMARY:Pak Tung Ho\, Chern-Yamabe Problem
DESCRIPTION:     Speaker\n\n\nPak Tung Ho\nSogang University\n\n\n\n\n\n\nI will explain what the Chern-Yamabe problem is\, and talk about the Chern-Yamabe flow which is a geometric flow approach to solve the Chern-Yamabe problem. \nI will also mention other results related to the Chern-Yamabe problem.
URL:https://ccg.ibs.re.kr/event/2021-06-23/
LOCATION:on-line
CATEGORIES:Several Complex Variables Seminar
END:VEVENT
END:VCALENDAR