BEGIN:VCALENDAR
VERSION:2.0
PRODID:-//Center for Complex Geometry - ECPv6.15.20//NONSGML v1.0//EN
CALSCALE:GREGORIAN
METHOD:PUBLISH
X-WR-CALNAME:Center for Complex Geometry
X-ORIGINAL-URL:https://ccg.ibs.re.kr
X-WR-CALDESC:Events for Center for Complex Geometry
REFRESH-INTERVAL;VALUE=DURATION:PT1H
X-Robots-Tag:noindex
X-PUBLISHED-TTL:PT1H
BEGIN:VTIMEZONE
TZID:Asia/Seoul
BEGIN:STANDARD
TZOFFSETFROM:+0900
TZOFFSETTO:+0900
TZNAME:KST
DTSTART:20210101T000000
END:STANDARD
END:VTIMEZONE
BEGIN:VEVENT
DTSTART;TZID=Asia/Seoul:20221012T150000
DTEND;TZID=Asia/Seoul:20221012T160000
DTSTAMP:20260420T011810
CREATED:20220930T085835Z
LAST-MODIFIED:20220930T085918Z
UID:1818-1665586800-1665590400@ccg.ibs.re.kr
SUMMARY:Pak Tung Ho\, The Weighted Yamabe Problem
DESCRIPTION:     Speaker\n\n\nPak Tung Ho\nSogang University\n\n\n\n\n\n\nIn this talk\, I will explain what the weighted Yamabe problem is\, and mention some related results that Jinwoo Shin (KIAS) and I obtained.
URL:https://ccg.ibs.re.kr/event/2022-10-12-1500/
LOCATION:B236-1\, IBS\, Korea\, Republic of
CATEGORIES:Several Complex Variables Seminar
END:VEVENT
END:VCALENDAR