BEGIN:VCALENDAR
VERSION:2.0
PRODID:-//Center for Complex Geometry - ECPv6.15.20//NONSGML v1.0//EN
CALSCALE:GREGORIAN
METHOD:PUBLISH
X-WR-CALNAME:Center for Complex Geometry
X-ORIGINAL-URL:https://ccg.ibs.re.kr
X-WR-CALDESC:Events for Center for Complex Geometry
REFRESH-INTERVAL;VALUE=DURATION:PT1H
X-Robots-Tag:noindex
X-PUBLISHED-TTL:PT1H
BEGIN:VTIMEZONE
TZID:Asia/Seoul
BEGIN:STANDARD
TZOFFSETFROM:+0900
TZOFFSETTO:+0900
TZNAME:KST
DTSTART:20210101T000000
END:STANDARD
END:VTIMEZONE
BEGIN:VEVENT
DTSTART;TZID=Asia/Seoul:20220208T110000
DTEND;TZID=Asia/Seoul:20220208T120000
DTSTAMP:20260420T231913
CREATED:20220208T020000Z
LAST-MODIFIED:20220126T010701Z
UID:975-1644318000-1644321600@ccg.ibs.re.kr
SUMMARY:Sandor Kovacs\, Hodge Sheaves for Singular Families
DESCRIPTION:     Speaker\n\n\nSandor Kovacs\nUniv. of Washington\n\n\n\n\n\nThis is a report on joint work with Behrouz Taji. Given a flat projective morphism f : X → B of complex varieties\, assuming that B is smooth\, we construct a functorial system of reflexive Hodge sheaves on B . If in addition\, X is also smooth then this system gives an extension of the Hodge bundle underlying the VHS of the smooth locus of f . This in turn provides a criterion that all VHSs of geometric origin must satisfy. As an independent application we prove a singular version of Viehweg’s conjecture about base spaces of families of maximal variation.
URL:https://ccg.ibs.re.kr/event/2022-02-08/
LOCATION:on-line
CATEGORIES:Algebraic Geometry Seminar
END:VEVENT
END:VCALENDAR