BEGIN:VCALENDAR
VERSION:2.0
PRODID:-//Center for Complex Geometry - ECPv6.15.20//NONSGML v1.0//EN
CALSCALE:GREGORIAN
METHOD:PUBLISH
X-ORIGINAL-URL:https://ccg.ibs.re.kr
X-WR-CALDESC:Events for Center for Complex Geometry
REFRESH-INTERVAL;VALUE=DURATION:PT1H
X-Robots-Tag:noindex
X-PUBLISHED-TTL:PT1H
BEGIN:VTIMEZONE
TZID:Asia/Seoul
BEGIN:STANDARD
TZOFFSETFROM:+0900
TZOFFSETTO:+0900
TZNAME:KST
DTSTART:20210101T000000
END:STANDARD
END:VTIMEZONE
BEGIN:VEVENT
DTSTART;TZID=Asia/Seoul:20220125T150000
DTEND;TZID=Asia/Seoul:20220125T160000
DTSTAMP:20260421T013604
CREATED:20220125T060000Z
LAST-MODIFIED:20220107T014952Z
UID:979-1643122800-1643126400@ccg.ibs.re.kr
SUMMARY:Sanghoon Baek\, Relationship between the Chow and Grothendieck Rings for Generic Flag Varieties
DESCRIPTION:     Speaker\n\n\nSanghoon Baek\nKAIST\n\n\n\n\n\nConsider the canonical morphism from the Chow ring of a smooth variety X to the associated graded ring of the coniveau filtration on the Grothendieck ring of X. In general\, this morphism is not injective. However\, Nikita Karpenko conjectured that these two rings are isomorphic for a generic flag variety X of a semisimple group G\, where he confirmed the conjecture for a simple group G of type A or C. Recently\, this conjecture was disproved by Nobuaki Yagita for some spin groups G. We will discuss further counter-examples using the K-theoretical Pieri formula for highest orthogonal grassmannians. This is joint work with Nikita Karpenko.
URL:https://ccg.ibs.re.kr/event/2022-01-25-1500/
LOCATION:B266\, IBS\, Korea\, Republic of
CATEGORIES:Algebraic Geometry Seminar
END:VEVENT
END:VCALENDAR