BEGIN:VCALENDAR
VERSION:2.0
PRODID:-//Center for Complex Geometry - ECPv6.15.20//NONSGML v1.0//EN
CALSCALE:GREGORIAN
METHOD:PUBLISH
X-ORIGINAL-URL:https://ccg.ibs.re.kr
X-WR-CALDESC:Events for Center for Complex Geometry
REFRESH-INTERVAL;VALUE=DURATION:PT1H
X-Robots-Tag:noindex
X-PUBLISHED-TTL:PT1H
BEGIN:VTIMEZONE
TZID:Asia/Seoul
BEGIN:STANDARD
TZOFFSETFROM:+0900
TZOFFSETTO:+0900
TZNAME:KST
DTSTART:20220101T000000
END:STANDARD
END:VTIMEZONE
BEGIN:VEVENT
DTSTART;TZID=Asia/Seoul:20230620T110000
DTEND;TZID=Asia/Seoul:20230620T120000
DTSTAMP:20260422T233808
CREATED:20230421T053444Z
LAST-MODIFIED:20230421T053619Z
UID:2251-1687258800-1687262400@ccg.ibs.re.kr
SUMMARY:Sung Gi Park\, Kodaira Dimension and Hyperbolicity for Smooth Families of Varieties
DESCRIPTION:    Speaker\n\n\nSung Gi Park\nHarvard University\n\n\n\n\n\n\nIn this talk\, I will discuss the behavior of positivity\, hyperbolicity\, and Kodaira dimension under smooth morphisms of complex quasi-projective manifolds. This includes a vast generalization of a classical result: a fibration from a projective surface of non-negative Kodaira dimension to a projective line has at least three singular fibers. Furthermore\, I will explain a proof of Popa’s conjecture on the superadditivity of the log Kodaira dimension over bases of dimension at most three. These theorems are applications of the main technical result\, namely the logarithmic base change theorem.
URL:https://ccg.ibs.re.kr/event/2023-06-20/
LOCATION:on-line
CATEGORIES:Algebraic Geometry Seminar
END:VEVENT
END:VCALENDAR