BEGIN:VCALENDAR
VERSION:2.0
PRODID:-//Center for Complex Geometry - ECPv6.15.20//NONSGML v1.0//EN
CALSCALE:GREGORIAN
METHOD:PUBLISH
X-WR-CALNAME:Center for Complex Geometry
X-ORIGINAL-URL:https://ccg.ibs.re.kr
X-WR-CALDESC:Events for Center for Complex Geometry
REFRESH-INTERVAL;VALUE=DURATION:PT1H
X-Robots-Tag:noindex
X-PUBLISHED-TTL:PT1H
BEGIN:VTIMEZONE
TZID:Asia/Seoul
BEGIN:STANDARD
TZOFFSETFROM:+0900
TZOFFSETTO:+0900
TZNAME:KST
DTSTART:20190101T000000
END:STANDARD
END:VTIMEZONE
BEGIN:VEVENT
DTSTART;TZID=Asia/Seoul:20201014T103000
DTEND;TZID=Asia/Seoul:20201014T113000
DTSTAMP:20260421T144810
CREATED:20201030T021444Z
LAST-MODIFIED:20210430T042531Z
UID:99-1602671400-1602675000@ccg.ibs.re.kr
SUMMARY:Sungyeon Kim\, Proper Holomorphic Maps between Bounded Symmetric Domains
DESCRIPTION:
URL:https://ccg.ibs.re.kr/event/2020-10-14/
LOCATION:B236\, IBS\, Korea\, Republic of
CATEGORIES:Several Complex Variables Seminar
END:VEVENT
END:VCALENDAR