BEGIN:VCALENDAR
VERSION:2.0
PRODID:-//Center for Complex Geometry - ECPv6.15.20//NONSGML v1.0//EN
CALSCALE:GREGORIAN
METHOD:PUBLISH
X-WR-CALNAME:Center for Complex Geometry
X-ORIGINAL-URL:https://ccg.ibs.re.kr
X-WR-CALDESC:Events for Center for Complex Geometry
REFRESH-INTERVAL;VALUE=DURATION:PT1H
X-Robots-Tag:noindex
X-PUBLISHED-TTL:PT1H
BEGIN:VTIMEZONE
TZID:Asia/Seoul
BEGIN:STANDARD
TZOFFSETFROM:+0900
TZOFFSETTO:+0900
TZNAME:KST
DTSTART:20220101T000000
END:STANDARD
END:VTIMEZONE
BEGIN:VEVENT
DTSTART;VALUE=DATE:20230213
DTEND;VALUE=DATE:20230218
DTSTAMP:20260420T195205
CREATED:20221221T053244Z
LAST-MODIFIED:20230221T074222Z
UID:1925-1676246400-1676678399@ccg.ibs.re.kr
SUMMARY:Korea-Japan Conference in Algebraic Geometry
DESCRIPTION:Speakers\nYonghwa Cho (IBS-CCG)\nJunho Choe (KIAS)\nYoshinori Gongyo (Tokyo U.)\nKenta Hashizume (Kyoto U.)\nSukmoon Huh (Sungkyunkwan U.)\nWonTae Hwang (Jeonbuk National U.)\nSeung-Jo Jung (Jeonbuk National U.)\nYeongrak Kim (Pusan National U.)\nTasuki Kinjo (IPMU\, Tokyo)\nTatsuki Kuwagaki (Kyoto U.)\nShin-ichi Matsumura (Tohoku U.)\nYosuke Matsuzawa (Osaka Metropolitan U.)\nJinhyung Park (KAIST)\nKenta Sato (Kyushu U.)\nJoonyeong Won (Ehwa Womans U.)\nShou Yoshikawa (RIKEN iTHEMS) \nAbstracts\nPDF File \nSchedule\nDay 1: February 13 (Monday) \n\n\n\n~10:00\nRegistration\n\n\n10:00~11:00\nJinhyung Park\nSyzygies of tangent developable surfaces and K3 carpets via secant varieties\nJun-Muk Hwang\n(Chair)\n\n\n11:00~11:30\nCoffee Break\n\n\n11:30~12:30\nShin-ichi Matsumura\nThe nonvanishing problem for varieties with nef anticanonical bundle\n\n\n12:30~14:30\nLunch\n\n\n15:00~16:00\nSeung-Jo Jung\nOn Milnor numbers and Tjurina numbers of hypersurface singularities\nYujiro Kawamata\n(Chair)\n\n\n16:00~16:20\nCoffee Break\n\n\n16:20-17:20\nYosuke Matsuzawa\nZariski dense orbit conjecture and arithmetic degrees of cohomologically hyperbolic maps\n\n\n18:00~20:00\nSpeakers Dinner\n\n\n\n  \nDay 2: February 14 (Tuesday) \n\n\n\n10:00~11:00\nYoshinori Gongyo\nGeneralized complexities and the Mukai type conjecture\nYongnam Lee\n(Chair)\n\n\n11:00~11:30\nCoffee Break\n\n\n11:30~12:30\nShou Yoshikawa\nQuasi-F-splitting\n\n\n12:30~14:30\nLunch\n\n\n15:00~16:00\nSukmoon Huh\nTorelli problem on logarithmic sheaves\nSijong Kwak\n(Chair)\n\n\n16:00~16:20\nCoffee Break\n\n\n16:20-17:20\nKenta Sato\nGeneral hyperplane section of log canonical threefolds in positive characteristic\n\n\n\n  \nDay 3: February 15 (Wednesday) \n\n\n\n10:00~11:00\nWonTae Hwang\nJordan constants of groups in connection with abelian varieties in positive characteristic\nDongseon Hwang\n(Chair)\n\n\n11:00~11:30\nCoffee Break\n\n\n11:30~12:30\nTasuki Kinjo\nEuler characteristic for stacks\n\n\n12:30~18:00\nExcursion\n\n\n\n  \nDay 4: February 16 (Thursday) \n\n\n\n10:00~11:00\nJunho Choe\nVarious parallels between projective varieties and secant varieties\nJaehyun Hong\n(Chair)\n\n\n11:00~11:30\nCoffee Break\n\n\n11:30~12:30\nTatsuki Kuwagaki\nSome examples of Hodge-Fukaya theory\n\n\n12:30~14:30\nLunch\n\n\n15:00~16:00\nJoonyeong Won\nTwisted Kaehler-Einstein metric on del Pezzo surfaces\nJongHae Keum\n(Chair)\n\n\n16:00~16:20\nCoffee Break\n\n\n16:20-17:20\nKenta Hashizume\nOn effective base point freeness for klt pairs\n\n\n17:30~19:00\nBanquet\n\n\n\n  \nDay 5: February 17 (Friday) \n\n\n\n10:00~11:00\nYeongrak Kim\nUlrich bundles on cubic fourfolds\nKeiji Oguiso\n(Chair)\n\n\n11:00~11:30\nCoffee Break\n\n\n11:30~12:30\nYonghwa Cho\nNodal (hyper-)surfaces\n\n\n\nOrganizers\nOsamu Fujino (Kyoto U.)\nDongSeon Hwang (IBS-CCG)\nJun-Muk Hwang (IBS-CCG)\nYongnam Lee (IBS-CCG)\nKeiji Oguiso (U. Tokyo)\nShunsuke Takagi (U. Tokyo) \nRegistration\nPlease submit Google form by January 31. \nMore Information\n• Food Zone Map\n• How to get to IBS-CCG
URL:https://ccg.ibs.re.kr/event/2023-02-13-17/
LOCATION:IBS Science Culture Center\, Daejeon\, Korea\, Republic of
CATEGORIES:Conferences and Workshops
ATTACH;FMTTYPE=image/jpeg:https://ccg.ibs.re.kr/wp-content/uploads/2022/12/KJ-conference-scaled.jpg
END:VEVENT
END:VCALENDAR