BEGIN:VCALENDAR
VERSION:2.0
PRODID:-//Center for Complex Geometry - ECPv6.15.20//NONSGML v1.0//EN
CALSCALE:GREGORIAN
METHOD:PUBLISH
X-WR-CALNAME:Center for Complex Geometry
X-ORIGINAL-URL:https://ccg.ibs.re.kr
X-WR-CALDESC:Events for Center for Complex Geometry
REFRESH-INTERVAL;VALUE=DURATION:PT1H
X-Robots-Tag:noindex
X-PUBLISHED-TTL:PT1H
BEGIN:VTIMEZONE
TZID:Asia/Seoul
BEGIN:STANDARD
TZOFFSETFROM:+0900
TZOFFSETTO:+0900
TZNAME:KST
DTSTART:20200101T000000
END:STANDARD
END:VTIMEZONE
BEGIN:VEVENT
DTSTART;TZID=Asia/Seoul:20210512T160000
DTEND;TZID=Asia/Seoul:20210512T170000
DTSTAMP:20260423T142834
CREATED:20210506T041021Z
LAST-MODIFIED:20210506T041021Z
UID:492-1620835200-1620838800@ccg.ibs.re.kr
SUMMARY:Young-jun Choi\, Existence of a Complete Holomorphic Vector Field via the Kähler-Einstein Metric
DESCRIPTION:     Speaker\n\n\nYoung-jun Choi\nPusan National University\n\n\n\n\n\n\nA fundamental problem in Several Complex Variables is to classify bounded pseudoconvex domains in the complex Euclidean space with a noncompact automorphism group\, especially with a compact quotient. In the results of Wong-Rosay and Frankel\, they make use of the “Scaling method” for obtaining an 1-parameter family of automorphisms\, which generates a holomorphic vector field. \nIn this talk\, we discuss the existence of a nowhere vanishing complete holomorphic vector field on a strongly pseudoconvex manifold admitting a negatively curved Kähler-Einstein metric and discrete sequence of automorphisms by introducing the scaling method on potentials of the Kähler-Einstein metric. \nThis is a joint work with Kang-Hyurk Lee in Gyenongsang National University.
URL:https://ccg.ibs.re.kr/event/2021-05-12/
LOCATION:B266\, IBS\, Korea\, Republic of
CATEGORIES:Several Complex Variables Seminar
END:VEVENT
END:VCALENDAR